BEGIN:VCALENDAR
VERSION:2.0
PRODID:-//jEvents 2.0 for Joomla//EN
CALSCALE:GREGORIAN
METHOD:PUBLISH
BEGIN:VTIMEZONE
TZID:Europe/Prague
BEGIN:STANDARD
DTSTART:20251026T020000
RDATE:20260329T030000
TZOFFSETFROM:+0200
TZOFFSETTO:+0100
TZNAME:Europe/Prague CET
END:STANDARD
BEGIN:STANDARD
DTSTART:20261025T020000
RDATE:20270328T030000
TZOFFSETFROM:+0200
TZOFFSETTO:+0100
TZNAME:Europe/Prague CET
END:STANDARD
BEGIN:STANDARD
DTSTART:20271031T020000
RDATE:20280326T030000
TZOFFSETFROM:+0200
TZOFFSETTO:+0100
TZNAME:Europe/Prague CET
END:STANDARD
BEGIN:STANDARD
DTSTART:20281029T020000
RDATE:20290325T030000
TZOFFSETFROM:+0200
TZOFFSETTO:+0100
TZNAME:Europe/Prague CET
END:STANDARD
BEGIN:STANDARD
DTSTART:20291028T020000
RDATE:20300331T030000
TZOFFSETFROM:+0200
TZOFFSETTO:+0100
TZNAME:Europe/Prague CET
END:STANDARD
BEGIN:STANDARD
DTSTART:20301027T020000
RDATE:20310330T030000
TZOFFSETFROM:+0200
TZOFFSETTO:+0100
TZNAME:Europe/Prague CET
END:STANDARD
BEGIN:STANDARD
DTSTART:20311026T020000
RDATE:20320328T030000
TZOFFSETFROM:+0200
TZOFFSETTO:+0100
TZNAME:Europe/Prague CET
END:STANDARD
BEGIN:STANDARD
DTSTART:20321031T020000
RDATE:20330327T030000
TZOFFSETFROM:+0200
TZOFFSETTO:+0100
TZNAME:Europe/Prague CET
END:STANDARD
BEGIN:STANDARD
DTSTART:20331030T020000
RDATE:20340326T030000
TZOFFSETFROM:+0200
TZOFFSETTO:+0100
TZNAME:Europe/Prague CET
END:STANDARD
BEGIN:DAYLIGHT
DTSTART:20250428T193000
RDATE:20251026T020000
TZOFFSETFROM:+0100
TZOFFSETTO:+0200
TZNAME:Europe/Prague CEST
END:DAYLIGHT
BEGIN:DAYLIGHT
DTSTART:20260329T030000
RDATE:20261025T020000
TZOFFSETFROM:+0100
TZOFFSETTO:+0200
TZNAME:Europe/Prague CEST
END:DAYLIGHT
BEGIN:DAYLIGHT
DTSTART:20270328T030000
RDATE:20271031T020000
TZOFFSETFROM:+0100
TZOFFSETTO:+0200
TZNAME:Europe/Prague CEST
END:DAYLIGHT
BEGIN:DAYLIGHT
DTSTART:20280326T030000
RDATE:20281029T020000
TZOFFSETFROM:+0100
TZOFFSETTO:+0200
TZNAME:Europe/Prague CEST
END:DAYLIGHT
BEGIN:DAYLIGHT
DTSTART:20290325T030000
RDATE:20291028T020000
TZOFFSETFROM:+0100
TZOFFSETTO:+0200
TZNAME:Europe/Prague CEST
END:DAYLIGHT
BEGIN:DAYLIGHT
DTSTART:20300331T030000
RDATE:20301027T020000
TZOFFSETFROM:+0100
TZOFFSETTO:+0200
TZNAME:Europe/Prague CEST
END:DAYLIGHT
BEGIN:DAYLIGHT
DTSTART:20310330T030000
RDATE:20311026T020000
TZOFFSETFROM:+0100
TZOFFSETTO:+0200
TZNAME:Europe/Prague CEST
END:DAYLIGHT
BEGIN:DAYLIGHT
DTSTART:20320328T030000
RDATE:20321031T020000
TZOFFSETFROM:+0100
TZOFFSETTO:+0200
TZNAME:Europe/Prague CEST
END:DAYLIGHT
BEGIN:DAYLIGHT
DTSTART:20330327T030000
RDATE:20331030T020000
TZOFFSETFROM:+0100
TZOFFSETTO:+0200
TZNAME:Europe/Prague CEST
END:DAYLIGHT
END:VTIMEZONE
BEGIN:VEVENT
UID:5521ae89545a4949d11226b7e3ac381f
CATEGORIES:Pozvánky
CREATED:20260304T111903
SUMMARY:Betlémská kaple: Strejček a Rak opět spolu
URL;VALUE=URI:https://www.ccsh.cz/kalendar/detailudalosti/3067/-/betlemska-kaple-strejcek
 -a-rak-opet-spolu.html?tmpl=component
DESCRIPTION:Ohlédnutí za tím, co život dal a vzal, ale vždy nechal tolik, aby šlo kráče
 t dál; o hvězdném tulákovi, o lásce, Božím slovu; o Víře o Naději, o Jestřá
 bově Znovu.\nMísto: Betlémská kaple\nAdresa: Betlémské nám. 255/4, Praha\nV
  Betlémské kapli se uskutečnilo v roce 1991 jedno z prvních uvedení koncert
 ního projektu k poctě Jana Amose Komenského s názvem Vivat Comenius, které 
 od té doby ve více než sedmi stech provedeních zaznělo ve 34 zemích 4 konti
 nentů. Dnešní výroční setkání bude také prvním společným vystoupením obou p
 rotagonistů po devíti letech. Na večeru zazní úryvky z nejúspěšnějších pořa
 dů této dvojice – Vivat Comenius, Máchovské nokturno, Hledání lásky, Hold K
 arlu IV., Pocta Jaroslavu Foglarovi, Petr Bezruč na Lysé hoře. K tomu i něk
 olik nových Štěpánových kompozic i později vzniklých melodramů. Ohlédnutí z
 a tím, co život dal a vzal, ale vždy nechal tolik, aby šlo kráčet dál; o hv
 ězdném tulákovi, o lásce, Božím slovu; o Víře o Naději, o Jestřábově Znovu.
 \nHosté: komenioložka Markéta Pánková a kytarista Jan-Matěj Rak\nVýtěžek z 
 koncertu bude věnován Alfrédovi Strejčkovi na jeho léčbu.\nOdkaz na předpro
 dej vstupenek: https://goout.net/cs/strejcek- a-rak-opet-spolu/szujogy/ (ht
 tps://goout.net/cs/strejcek-a-rak-opet-spolu/szujogy/) Odkaz na FB: <a href
 ="https://www.facebook.com/events/2281515902257928" target="_blank" rel="no
 opener">https://www.facebook.com/events/2281515902257928</a> Vstupné: 690–9
 90 Kč
X-ALT-DESC;FMTTYPE=text/html:<p><strong>Ohlédnutí za tím, co život dal a vzal, ale vždy nechal tolik, ab
 y šlo kráčet dál; o hvězdném tulákovi, o lásce, Božím slovu; o Víře o Naděj
 i, o Jestřábově Znovu.</strong></p><p><strong>Místo: Betlémská kaple</stron
 g></p><p><strong>Adresa: Betlémské nám. 255/4, Praha</strong></p><p>V Betlé
 mské kapli se uskutečnilo v roce 1991 jedno z prvních uvedení koncertního p
 rojektu k poctě Jana Amose Komenského s názvem Vivat Comenius, které od té 
 doby ve více než sedmi stech provedeních zaznělo ve 34 zemích 4 kontinentů.
  Dnešní výroční setkání bude také prvním společným vystoupením obou protago
 nistů po devíti letech. Na večeru zazní úryvky z nejúspěšnějších pořadů tét
 o dvojice – Vivat Comenius, Máchovské nokturno, Hledání lásky, Hold Karlu I
 V., Pocta Jaroslavu Foglarovi, Petr Bezruč na Lysé hoře. K tomu i několik n
 ových Štěpánových kompozic i později vzniklých melodramů. Ohlédnutí za tím,
  co život dal a vzal, ale vždy nechal tolik, aby šlo kráčet dál; o hvězdném
  tulákovi, o lásce, Božím slovu; o Víře o Naději, o Jestřábově Znovu.</p><p
 ><strong>Hosté: komenioložka Markéta Pánková a kytarista Jan-Matěj Rak</str
 ong></p><p>Výtěžek z koncertu bude věnován Alfrédovi Strejčkovi na jeho léč
 bu.</p><div>Odkaz na předprodej vstupenek:&nbsp;<a href="https://goout.net/
 cs/strejcek-a-rak-opet-spolu/szujogy/" target="_blank" rel="noopener"><span
  dir="auto"><span dir="auto">https://goout.net/cs/strejcek-&nbsp;</span></s
 pan><wbr /><span dir="auto"><span dir="auto">a-rak-opet-spolu/szujogy/</spa
 n></span></a></div><div>&nbsp;</div><div>Odkaz na FB:&nbsp;<a href="https:/
 /www.facebook.com/events/2281515902257928" target="_blank" rel="noopener">h
 ttps://www.facebook.com/events/2281515902257928</a></div><div>&nbsp;</div><
 div><strong>Vstupné: 690–990 Kč</strong></div>
DTSTAMP:20260426T042434Z
DTSTART;TZID=Europe/Prague:20260429T193000
SEQUENCE:0
TRANSP:OPAQUE
END:VEVENT
END:VCALENDAR