BEGIN:VCALENDAR
VERSION:2.0
PRODID:-//jEvents 2.0 for Joomla//EN
CALSCALE:GREGORIAN
METHOD:PUBLISH
BEGIN:VTIMEZONE
TZID:Europe/Prague
BEGIN:STANDARD
DTSTART:20251026T020000
RDATE:20260329T030000
TZOFFSETFROM:+0200
TZOFFSETTO:+0100
TZNAME:Europe/Prague CET
END:STANDARD
BEGIN:STANDARD
DTSTART:20261025T020000
RDATE:20270328T030000
TZOFFSETFROM:+0200
TZOFFSETTO:+0100
TZNAME:Europe/Prague CET
END:STANDARD
BEGIN:STANDARD
DTSTART:20271031T020000
RDATE:20280326T030000
TZOFFSETFROM:+0200
TZOFFSETTO:+0100
TZNAME:Europe/Prague CET
END:STANDARD
BEGIN:STANDARD
DTSTART:20281029T020000
RDATE:20290325T030000
TZOFFSETFROM:+0200
TZOFFSETTO:+0100
TZNAME:Europe/Prague CET
END:STANDARD
BEGIN:STANDARD
DTSTART:20291028T020000
RDATE:20300331T030000
TZOFFSETFROM:+0200
TZOFFSETTO:+0100
TZNAME:Europe/Prague CET
END:STANDARD
BEGIN:STANDARD
DTSTART:20301027T020000
RDATE:20310330T030000
TZOFFSETFROM:+0200
TZOFFSETTO:+0100
TZNAME:Europe/Prague CET
END:STANDARD
BEGIN:STANDARD
DTSTART:20311026T020000
RDATE:20320328T030000
TZOFFSETFROM:+0200
TZOFFSETTO:+0100
TZNAME:Europe/Prague CET
END:STANDARD
BEGIN:STANDARD
DTSTART:20321031T020000
RDATE:20330327T030000
TZOFFSETFROM:+0200
TZOFFSETTO:+0100
TZNAME:Europe/Prague CET
END:STANDARD
BEGIN:STANDARD
DTSTART:20331030T020000
RDATE:20340326T030000
TZOFFSETFROM:+0200
TZOFFSETTO:+0100
TZNAME:Europe/Prague CET
END:STANDARD
BEGIN:DAYLIGHT
DTSTART:20250418T140000
RDATE:20251026T020000
TZOFFSETFROM:+0100
TZOFFSETTO:+0200
TZNAME:Europe/Prague CEST
END:DAYLIGHT
BEGIN:DAYLIGHT
DTSTART:20260329T030000
RDATE:20261025T020000
TZOFFSETFROM:+0100
TZOFFSETTO:+0200
TZNAME:Europe/Prague CEST
END:DAYLIGHT
BEGIN:DAYLIGHT
DTSTART:20270328T030000
RDATE:20271031T020000
TZOFFSETFROM:+0100
TZOFFSETTO:+0200
TZNAME:Europe/Prague CEST
END:DAYLIGHT
BEGIN:DAYLIGHT
DTSTART:20280326T030000
RDATE:20281029T020000
TZOFFSETFROM:+0100
TZOFFSETTO:+0200
TZNAME:Europe/Prague CEST
END:DAYLIGHT
BEGIN:DAYLIGHT
DTSTART:20290325T030000
RDATE:20291028T020000
TZOFFSETFROM:+0100
TZOFFSETTO:+0200
TZNAME:Europe/Prague CEST
END:DAYLIGHT
BEGIN:DAYLIGHT
DTSTART:20300331T030000
RDATE:20301027T020000
TZOFFSETFROM:+0100
TZOFFSETTO:+0200
TZNAME:Europe/Prague CEST
END:DAYLIGHT
BEGIN:DAYLIGHT
DTSTART:20310330T030000
RDATE:20311026T020000
TZOFFSETFROM:+0100
TZOFFSETTO:+0200
TZNAME:Europe/Prague CEST
END:DAYLIGHT
BEGIN:DAYLIGHT
DTSTART:20320328T030000
RDATE:20321031T020000
TZOFFSETFROM:+0100
TZOFFSETTO:+0200
TZNAME:Europe/Prague CEST
END:DAYLIGHT
BEGIN:DAYLIGHT
DTSTART:20330327T030000
RDATE:20331030T020000
TZOFFSETFROM:+0100
TZOFFSETTO:+0200
TZNAME:Europe/Prague CEST
END:DAYLIGHT
END:VTIMEZONE
BEGIN:VEVENT
UID:81752183edeec9d43fbbf90e706a0a72
CATEGORIES:Pozvánky
CREATED:20260304T111707
SUMMARY:Den Země v Mladé Boleslavi 19. dubna
URL;VALUE=URI:https://www.ccsh.cz/kalendar/detailudalosti/3066/-/den-zeme-v-mlade-bolesla
 vi-19-dubna.html?tmpl=component
DESCRIPTION:\nPřijeďte s námi prožít Den Země do Mladé Boleslavi - tentokrát v neděli 1
 9. 4. od 14 hodin - kdy pomůžeme s úklidem našeho největšího židovského hřb
 itova - stříhat břečťan z náhrobků a stél, odnášet spadané větve, klestit c
 estu šípkovým trním apod. \n ***** \nVezměte si rukavice, zahradnické nůžky
 , svačinu a chuť aktivně společně činně prožít odpoledne v přírodě a třeba 
 si tam i společně v kapli nahoře zkusit její nádhernou akustiku zpěvem žido
 vských písní a pomodlit se tam.\nTěší se,\nKamila Magdalena Lukasová a spol
 .\n
X-ALT-DESC;FMTTYPE=text/html:<p style="text-align: justify;"><br />Přijeďte s námi prožít Den Země do Ml
 adé Boleslavi - tentokrát v neděli 19. 4. od 14 hodin - kdy pomůžeme s úkli
 dem našeho největšího židovského hřbitova - stříhat břečťan z náhrobků a st
 él, odnášet spadané větve, klestit cestu šípkovým trním apod.&nbsp;<br /> *
 **** <br />Vezměte si rukavice, zahradnické nůžky, svačinu a chuť aktivně s
 polečně činně prožít odpoledne v přírodě a třeba si tam i společně v kapli 
 nahoře zkusit její nádhernou akustiku zpěvem židovských písní a pomodlit se
  tam.</p><p style="text-align: justify;">Těší se,</p><p style="text-align: 
 justify;">Kamila Magdalena Lukasová a spol.</p>
DTSTAMP:20260419T153257Z
DTSTART;TZID=Europe/Prague:20260419T140000
SEQUENCE:0
TRANSP:OPAQUE
END:VEVENT
END:VCALENDAR