BEGIN:VCALENDAR
VERSION:2.0
PRODID:-//jEvents 2.0 for Joomla//EN
CALSCALE:GREGORIAN
METHOD:PUBLISH
BEGIN:VTIMEZONE
TZID:Europe/Prague
BEGIN:STANDARD
DTSTART:20241126T091500
RDATE:20250330T030000
TZOFFSETFROM:+0200
TZOFFSETTO:+0100
TZNAME:Europe/Prague CET
END:STANDARD
BEGIN:STANDARD
DTSTART:20251026T020000
RDATE:20260329T030000
TZOFFSETFROM:+0200
TZOFFSETTO:+0100
TZNAME:Europe/Prague CET
END:STANDARD
BEGIN:STANDARD
DTSTART:20261025T020000
RDATE:20270328T030000
TZOFFSETFROM:+0200
TZOFFSETTO:+0100
TZNAME:Europe/Prague CET
END:STANDARD
BEGIN:STANDARD
DTSTART:20271031T020000
RDATE:20280326T030000
TZOFFSETFROM:+0200
TZOFFSETTO:+0100
TZNAME:Europe/Prague CET
END:STANDARD
BEGIN:STANDARD
DTSTART:20281029T020000
RDATE:20290325T030000
TZOFFSETFROM:+0200
TZOFFSETTO:+0100
TZNAME:Europe/Prague CET
END:STANDARD
BEGIN:STANDARD
DTSTART:20291028T020000
RDATE:20300331T030000
TZOFFSETFROM:+0200
TZOFFSETTO:+0100
TZNAME:Europe/Prague CET
END:STANDARD
BEGIN:STANDARD
DTSTART:20301027T020000
RDATE:20310330T030000
TZOFFSETFROM:+0200
TZOFFSETTO:+0100
TZNAME:Europe/Prague CET
END:STANDARD
BEGIN:STANDARD
DTSTART:20311026T020000
RDATE:20320328T030000
TZOFFSETFROM:+0200
TZOFFSETTO:+0100
TZNAME:Europe/Prague CET
END:STANDARD
BEGIN:STANDARD
DTSTART:20321031T020000
RDATE:20330327T030000
TZOFFSETFROM:+0200
TZOFFSETTO:+0100
TZNAME:Europe/Prague CET
END:STANDARD
BEGIN:STANDARD
DTSTART:20331030T020000
RDATE:20340326T030000
TZOFFSETFROM:+0200
TZOFFSETTO:+0100
TZNAME:Europe/Prague CET
END:STANDARD
BEGIN:DAYLIGHT
DTSTART:20250330T030000
RDATE:20251026T020000
TZOFFSETFROM:+0100
TZOFFSETTO:+0200
TZNAME:Europe/Prague CEST
END:DAYLIGHT
BEGIN:DAYLIGHT
DTSTART:20260329T030000
RDATE:20261025T020000
TZOFFSETFROM:+0100
TZOFFSETTO:+0200
TZNAME:Europe/Prague CEST
END:DAYLIGHT
BEGIN:DAYLIGHT
DTSTART:20270328T030000
RDATE:20271031T020000
TZOFFSETFROM:+0100
TZOFFSETTO:+0200
TZNAME:Europe/Prague CEST
END:DAYLIGHT
BEGIN:DAYLIGHT
DTSTART:20280326T030000
RDATE:20281029T020000
TZOFFSETFROM:+0100
TZOFFSETTO:+0200
TZNAME:Europe/Prague CEST
END:DAYLIGHT
BEGIN:DAYLIGHT
DTSTART:20290325T030000
RDATE:20291028T020000
TZOFFSETFROM:+0100
TZOFFSETTO:+0200
TZNAME:Europe/Prague CEST
END:DAYLIGHT
BEGIN:DAYLIGHT
DTSTART:20300331T030000
RDATE:20301027T020000
TZOFFSETFROM:+0100
TZOFFSETTO:+0200
TZNAME:Europe/Prague CEST
END:DAYLIGHT
BEGIN:DAYLIGHT
DTSTART:20310330T030000
RDATE:20311026T020000
TZOFFSETFROM:+0100
TZOFFSETTO:+0200
TZNAME:Europe/Prague CEST
END:DAYLIGHT
BEGIN:DAYLIGHT
DTSTART:20320328T030000
RDATE:20321031T020000
TZOFFSETFROM:+0100
TZOFFSETTO:+0200
TZNAME:Europe/Prague CEST
END:DAYLIGHT
BEGIN:DAYLIGHT
DTSTART:20330327T030000
RDATE:20331030T020000
TZOFFSETFROM:+0100
TZOFFSETTO:+0200
TZNAME:Europe/Prague CEST
END:DAYLIGHT
END:VTIMEZONE
BEGIN:VEVENT
UID:c24ac10e646c9eeae0637abb15942a4b
CATEGORIES:Pozvánky
CREATED:20251120T102518
SUMMARY:Konference na HTF UK: Jak tvořit církev jako místo důvěry?
URL;VALUE=URI:https://www.ccsh.cz/kalendar/detailudalosti/2809/-/konference-na-htf-uk-jak
 -tvorit-cirkev-jako-misto-duvery.html?tmpl=component
DESCRIPTION:Husitská teologická fakulta Univerzity Karlovy si Vás dovoluje pozvat na 10
 . ročník HTKonference, který se bude konat 27. listopadu 9:00-16:00.\nHTKon
 ference se zaměřují na aktuální témata husitské teologie, letos se budeme v
 ěnovat tématu „Jak tvořit církev jako místo důvěry?“\nVíce informací, progr
 am se zajímavými hosty a přihlašovací formulář (k prezenční i online formě)
  je otevřený do 24.11.2025 na Teologická konference „Jak tvořit církev jako
  místo důvěry?“ - Husitská teologická fakulta (https://htf.cuni.cz/HTF-879.
 html).\nRovnou na přihlášení zde: <a href="https://docs.google.com/forms/d/
 e/1FAIpQLSfJtVh8HqBKuuOQIFudMGO4xVzb_i_GYUqggbXhY6REDshEZA/viewform" target
 ="_blank" rel="noopener">Registrace HTK 2025</a>, sledovat nás můžete i na 
 FB (1) Facebook či Instagramu @htkonference .\nProgram\n8:45 Otevření preze
 nce pro účastníky\n9:15-9:45 Zahájení konference (aula H109)\n\n - úvodní s
 lovo děkana Jiřího Vogela\n - pozdrav zástupce CČSH\n - praktické informace
  k průběhu konference9:45-10:15 Jiří Vogel “Důvěra v pohledu biblického per
 sonalismu\ndiskuze\n10:30-11:00 Pavel Kolář "Důvěra a mlčenlivost v praktic
 ko-teologické perspektivě"\ndiskuze\n11:15-11:45 Daniel Bartoň “Důvěra a ml
 čenlivost z pohledu práva“\ndiskuze\n12:00-13:00 Pauza na oběd\n13:00-13:30
  Pavel Hradílek “Zpovědní praxe v obci Společná cesta”\ndiskuze\n13:30-14:0
 0 Organizace Někdo Ti uvěří – Jiří Kylar\ndiskuze\n14:00-14:20 Pauza na obč
 erstvení\n14:20 Zkušenosti z duchovní praxe (kdo by chtěl sdílet své zkušen
 osti, napište nám)\n15:00 Panelová diskuze\n15:30 Zakončení programu konfer
 ence\nmodlitba\n*Organizátor si vyhrazuje právo na změnu programu\nPozvánka
  - HTK2025 (images/2025/Prilohy/Pozv%C3%A1nka_HTK2025.jpg)\n
X-ALT-DESC;FMTTYPE=text/html:<p>Husitská teologická fakulta Univerzity Karlovy si Vás dovoluje pozvat na
  10. ročník HTKonference, který se bude konat 27. listopadu 9:00-16:00.</p>
 <hr id="system-readmore" /><p>HTKonference se zaměřují na aktuální témata h
 usitské teologie, letos se budeme věnovat tématu „Jak tvořit církev jako mí
 sto důvěry?“</p><p>Více informací, program se zajímavými hosty a přihlašova
 cí formulář (k prezenční i online formě) je otevřený do 24.11.2025 na <a hr
 ef="https://htf.cuni.cz/HTF-879.html" target="_blank" rel="noopener">Teolog
 ická konference „Jak tvořit církev jako místo důvěry?“ - Husitská teologick
 á fakulta</a>.</p><p>Rovnou na přihlášení zde:&nbsp;<a href="https://docs.g
 oogle.com/forms/d/e/1FAIpQLSfJtVh8HqBKuuOQIFudMGO4xVzb_i_GYUqggbXhY6REDshEZ
 A/viewform" target="_blank" rel="noopener">Registrace HTK 2025</a>, sledova
 t nás můžete i na FB (1) Facebook či Instagramu @htkonference .</p><p><stro
 ng>Program</strong></p><p>8:45 Otevření prezence pro účastníky</p><p>9:15-9
 :45 <strong>Zahájení konference</strong> (aula H109)</p><ul><li>úvodní slov
 o děkana Jiřího Vogela</li><li>pozdrav zástupce CČSH</li><li>praktické info
 rmace k průběhu konference</li></ul><p>9:45-10:15 <strong>Jiří Vogel “Důvěr
 a v pohledu biblického personalismu</strong></p><p>diskuze</p><p>10:30-11:0
 0 <strong>Pavel Kolář "Důvěra a mlčenlivost v prakticko-teologické perspekt
 ivě"</strong></p><p>diskuze</p><p>11:15-11:45 <strong>Daniel Bartoň “Důvěra
  a mlčenlivost z pohledu práva“</strong></p><p>diskuze</p><p>12:00-13:00 Pa
 uza na oběd</p><p>13:00-13:30 <strong>Pavel Hradílek “Zpovědní praxe v obci
  Společná cesta”</strong></p><p>diskuze</p><p>13:30-14:00 <strong>Organizac
 e Někdo Ti uvěří – Jiří Kylar</strong></p><p>diskuze</p><p>14:00-14:20 Pauz
 a na občerstvení</p><p>14:20 <strong>Zkušenosti z duchovní praxe&nbsp;</str
 ong>(kdo by chtěl sdílet své zkušenosti, napište nám)</p><p>15:00 <strong>P
 anelová diskuze</strong></p><p>15:30<strong> Zakončení programu konference<
 /strong></p><p>modlitba</p><p>*Organizátor si vyhrazuje právo na změnu prog
 ramu</p><p><a href="images/2025/Prilohy/Pozv%C3%A1nka_HTK2025.jpg" target="
 _blank" class="wf_file">Pozvánka - HTK2025</a></p>
DTSTAMP:20260421T212938Z
DTSTART;TZID=Europe/Prague:20251127T091500
DTEND;TZID=Europe/Prague:20251127T153000
SEQUENCE:0
TRANSP:OPAQUE
END:VEVENT
END:VCALENDAR